BEGIN:VCALENDAR
METHOD:PUBLISH
PRODID:-//Weblication CMS
VERSION:2.0
BEGIN:VEVENT
SUMMARY:Weihnacht im Ried
DTSTART:20261228T150000
DTEND:20261228T170000
DESCRIPTION:
LOCATION:Benninger Ried
UID:https://www.benninger-ried.de/de/veranstaltungen/termine/Weihnacht-im-Ried.php
URL:https://www.benninger-ried.de/de/veranstaltungen/termine/Weihnacht-im-Ried.php
END:VEVENT
END:VCALENDAR